BEGIN:VCALENDAR
VERSION:2.0
PRODID:-//ConVerve GmbH//B2BMatch//EN
METHOD:PUBLISH
BEGIN:VEVENT
DTSTART:20251204T070000Z
DTEND:20251204T220000Z
SUMMARY:Norway uncovered - B2B workshop
LOCATION:Radisson Collection Royal Hotel
DESCRIPTION:
UID:0000001
DTSTAMP:20180215T145139Z
END:VEVENT
END:VCALENDAR
